BEGIN:VCALENDAR
VERSION:2.0
PRODID:icalendar-ruby
CALSCALE:GREGORIAN
METHOD:PUBLISH
BEGIN:VEVENT
DTSTAMP:20260423T035813Z
UID:9-362490@artemuschristianchurch.com
DTSTART:20261104T233000Z
DTEND:20261105T003000Z
CLASS:PUBLIC
CREATED:20260422T230521
DESCRIPTION:
LAST-MODIFIED:20260422T230521
LOCATION:
SUMMARY:Wednesday Night Bible Study
URL;VALUE=URI:https://artemuschristianchurch.com/events/wednesday-night-bib
 le-study/2026-11-04
END:VEVENT
END:VCALENDAR
