BEGIN:VCALENDAR
VERSION:2.0
PRODID:icalendar-ruby
CALSCALE:GREGORIAN
METHOD:PUBLISH
BEGIN:VEVENT
DTSTAMP:20260423T022203Z
UID:9-362204@artemuschristianchurch.com
DTSTART:20261028T223000Z
DTEND:20261028T233000Z
CLASS:PUBLIC
CREATED:20260422T201105
DESCRIPTION:
LAST-MODIFIED:20260422T201105
LOCATION:
SUMMARY:Wednesday Night Bible Study
URL;VALUE=URI:https://artemuschristianchurch.com/events/wednesday-night-bib
 le-study/2026-10-28
END:VEVENT
END:VCALENDAR
