BEGIN:VCALENDAR
VERSION:2.0
PRODID:icalendar-ruby
CALSCALE:GREGORIAN
METHOD:PUBLISH
BEGIN:VEVENT
DTSTAMP:20260422T221500Z
UID:9-361918@artemuschristianchurch.com
DTSTART:20261014T223000Z
DTEND:20261014T233000Z
CLASS:PUBLIC
CREATED:20260422T171930
DESCRIPTION:
LAST-MODIFIED:20260422T171930
LOCATION:
SUMMARY:Wednesday Night Bible Study
URL;VALUE=URI:https://artemuschristianchurch.com/events/wednesday-night-bib
 le-study/2026-10-14
END:VEVENT
END:VCALENDAR
