BEGIN:VCALENDAR
VERSION:2.0
PRODID:icalendar-ruby
CALSCALE:GREGORIAN
METHOD:PUBLISH
BEGIN:VEVENT
DTSTAMP:20260422T184001Z
UID:9-361632@artemuschristianchurch.com
DTSTART:20260930T223000Z
DTEND:20260930T233000Z
CLASS:PUBLIC
CREATED:20260422T142409
DESCRIPTION:
LAST-MODIFIED:20260422T142409
LOCATION:
SUMMARY:Wednesday Night Bible Study
URL;VALUE=URI:https://artemuschristianchurch.com/events/wednesday-night-bib
 le-study/2026-09-30
END:VEVENT
END:VCALENDAR
