BEGIN:VCALENDAR
VERSION:2.0
PRODID:icalendar-ruby
CALSCALE:GREGORIAN
METHOD:PUBLISH
BEGIN:VEVENT
DTSTAMP:20260422T163738Z
UID:9-361347@artemuschristianchurch.com
DTSTART:20260923T223000Z
DTEND:20260923T233000Z
CLASS:PUBLIC
CREATED:20260422T112930
DESCRIPTION:
LAST-MODIFIED:20260422T112930
LOCATION:
SUMMARY:Wednesday Night Bible Study
URL;VALUE=URI:https://artemuschristianchurch.com/events/wednesday-night-bib
 le-study/2026-09-23
END:VEVENT
END:VCALENDAR
