BEGIN:VCALENDAR
VERSION:2.0
PRODID:icalendar-ruby
CALSCALE:GREGORIAN
METHOD:PUBLISH
BEGIN:VEVENT
DTSTAMP:20260423T155939Z
UID:8-362974@artemuschristianchurch.com
DTSTART:20261025T140000Z
DTEND:20261025T150000Z
CLASS:PUBLIC
CREATED:20260423T112802
DESCRIPTION:Sunday School
LAST-MODIFIED:20260423T112802
LOCATION:
SUMMARY:Sunday School
URL;VALUE=URI:https://artemuschristianchurch.com/events/sunday-school/2026-
 10-25
END:VEVENT
END:VCALENDAR
