BEGIN:VCALENDAR
VERSION:2.0
PRODID:icalendar-ruby
CALSCALE:GREGORIAN
METHOD:PUBLISH
BEGIN:VEVENT
DTSTAMP:20260423T105024Z
UID:8-362401@artemuschristianchurch.com
DTSTART:20261004T140000Z
DTEND:20261004T150000Z
CLASS:PUBLIC
CREATED:20260422T230520
DESCRIPTION:Sunday School
LAST-MODIFIED:20260422T230520
LOCATION:
SUMMARY:Sunday School
URL;VALUE=URI:https://artemuschristianchurch.com/events/sunday-school/2026-
 10-04
END:VEVENT
END:VCALENDAR
